BEGIN:VCALENDAR
VERSION:2.0
PRODID:-//CWC-FPRA - ECPv6.15.20//NONSGML v1.0//EN
CALSCALE:GREGORIAN
METHOD:PUBLISH
X-WR-CALNAME:CWC-FPRA
X-ORIGINAL-URL:https://cwcfpra.com
X-WR-CALDESC:Events for CWC-FPRA
REFRESH-INTERVAL;VALUE=DURATION:PT1H
X-Robots-Tag:noindex
X-PUBLISHED-TTL:PT1H
BEGIN:VTIMEZONE
TZID:America/New_York
BEGIN:DAYLIGHT
TZOFFSETFROM:-0500
TZOFFSETTO:-0400
TZNAME:EDT
DTSTART:20250309T070000
END:DAYLIGHT
BEGIN:STANDARD
TZOFFSETFROM:-0400
TZOFFSETTO:-0500
TZNAME:EST
DTSTART:20251102T060000
END:STANDARD
BEGIN:DAYLIGHT
TZOFFSETFROM:-0500
TZOFFSETTO:-0400
TZNAME:EDT
DTSTART:20260308T070000
END:DAYLIGHT
BEGIN:STANDARD
TZOFFSETFROM:-0400
TZOFFSETTO:-0500
TZNAME:EST
DTSTART:20261101T060000
END:STANDARD
BEGIN:DAYLIGHT
TZOFFSETFROM:-0500
TZOFFSETTO:-0400
TZNAME:EDT
DTSTART:20270314T070000
END:DAYLIGHT
BEGIN:STANDARD
TZOFFSETFROM:-0400
TZOFFSETTO:-0500
TZNAME:EST
DTSTART:20271107T060000
END:STANDARD
END:VTIMEZONE
BEGIN:VEVENT
DTSTART;TZID=America/New_York:20260429T173000
DTEND;TZID=America/New_York:20260429T193000
DTSTAMP:20260423T082331
CREATED:20260324T215158Z
LAST-MODIFIED:20260324T215328Z
UID:5591-1777483800-1777491000@cwcfpra.com
SUMMARY:RPIE & Key Lime Pie PR Trivia Night
DESCRIPTION:Are you looking to level up your professional game? Are you interested in learning more about Accreditation? Or would you simply enjoy a (free) night of lite bites and trivia with your PR peeps? \nJoin CWC-FPRA for a fun social gathering with some friendly competition thrown in! Credentialing co-chairs Sharon Kunkel\, APR\, CPRC and Jennifer Moss Wilson\, APR\, CPRC challenge you to step up and showcase your APR (Accreditation in Public Relations) and public relations knowledge: questions will address key figures in and the history of PR\, some well-known crisis communications cases\, and RPIE (research\, planning\, implementation and evaluation)\, the four-step process used to create and execute effective PR campaigns. \nYou do NOT need to be in the credentialing pipeline to participate – practitioners of all levels of experience and from all communications disciplines are welcome. Bring a team or join other “free agents” upon arrival. Lite bites will be provided and your first drink is free\, on CWC. There will be prizes for the top teams. \nCost: FREE but registration is required by Friday\, April 24 so that we can plan for the room set-up and food order. \n🍋‍🟩 Secure Your Spot – RSVP
URL:https://cwcfpra.com/event/rpie-key-lime-pie-pr-trivia-night/
LOCATION:Anna Maria Oyster Bar Landside\, 6906 14th St W\, Bradenton\, FL\, 34207\, United States
ATTACH;FMTTYPE=image/webp:https://cwcfpra.com/wp-content/uploads/2026/03/2026-RPIE-Key-Lime-Pie-PR-Trivia-Night-temp-header.webp
END:VEVENT
END:VCALENDAR